BEGIN:VCALENDAR
VERSION:2.0
PRODID:-//Putney Mountain Association - ECPv6.15.20//NONSGML v1.0//EN
CALSCALE:GREGORIAN
METHOD:PUBLISH
X-WR-CALNAME:Putney Mountain Association
X-ORIGINAL-URL:https://putneymountain.org
X-WR-CALDESC:Events for Putney Mountain Association
REFRESH-INTERVAL;VALUE=DURATION:PT1H
X-Robots-Tag:noindex
X-PUBLISHED-TTL:PT1H
BEGIN:VTIMEZONE
TZID:America/New_York
BEGIN:DAYLIGHT
TZOFFSETFROM:-0500
TZOFFSETTO:-0400
TZNAME:EDT
DTSTART:20200308T070000
END:DAYLIGHT
BEGIN:STANDARD
TZOFFSETFROM:-0400
TZOFFSETTO:-0500
TZNAME:EST
DTSTART:20201101T060000
END:STANDARD
BEGIN:DAYLIGHT
TZOFFSETFROM:-0500
TZOFFSETTO:-0400
TZNAME:EDT
DTSTART:20210314T070000
END:DAYLIGHT
BEGIN:STANDARD
TZOFFSETFROM:-0400
TZOFFSETTO:-0500
TZNAME:EST
DTSTART:20211107T060000
END:STANDARD
BEGIN:DAYLIGHT
TZOFFSETFROM:-0500
TZOFFSETTO:-0400
TZNAME:EDT
DTSTART:20220313T070000
END:DAYLIGHT
BEGIN:STANDARD
TZOFFSETFROM:-0400
TZOFFSETTO:-0500
TZNAME:EST
DTSTART:20221106T060000
END:STANDARD
BEGIN:DAYLIGHT
TZOFFSETFROM:-0500
TZOFFSETTO:-0400
TZNAME:EDT
DTSTART:20230312T070000
END:DAYLIGHT
BEGIN:STANDARD
TZOFFSETFROM:-0400
TZOFFSETTO:-0500
TZNAME:EST
DTSTART:20231105T060000
END:STANDARD
BEGIN:DAYLIGHT
TZOFFSETFROM:-0500
TZOFFSETTO:-0400
TZNAME:EDT
DTSTART:20240310T070000
END:DAYLIGHT
BEGIN:STANDARD
TZOFFSETFROM:-0400
TZOFFSETTO:-0500
TZNAME:EST
DTSTART:20241103T060000
END:STANDARD
BEGIN:DAYLIGHT
TZOFFSETFROM:-0500
TZOFFSETTO:-0400
TZNAME:EDT
DTSTART:20250309T070000
END:DAYLIGHT
BEGIN:STANDARD
TZOFFSETFROM:-0400
TZOFFSETTO:-0500
TZNAME:EST
DTSTART:20251102T060000
END:STANDARD
BEGIN:DAYLIGHT
TZOFFSETFROM:-0500
TZOFFSETTO:-0400
TZNAME:EDT
DTSTART:20260308T070000
END:DAYLIGHT
BEGIN:STANDARD
TZOFFSETFROM:-0400
TZOFFSETTO:-0500
TZNAME:EST
DTSTART:20261101T060000
END:STANDARD
END:VTIMEZONE
BEGIN:VTIMEZONE
TZID:UTC
BEGIN:STANDARD
TZOFFSETFROM:+0000
TZOFFSETTO:+0000
TZNAME:UTC
DTSTART:20200101T000000
END:STANDARD
END:VTIMEZONE
BEGIN:VEVENT
DTSTART;TZID=America/New_York:20250809T203000
DTEND;TZID=America/New_York:20250809T213000
DTSTAMP:20260423T134210
CREATED:20250509T202957Z
LAST-MODIFIED:20250509T202957Z
UID:4154-1754771400-1754775000@putneymountain.org
SUMMARY:Full Moon
DESCRIPTION:Come for the sunset\, stay for the moonrise.
URL:https://putneymountain.org/event/full-moon-6/
LOCATION:Putney Mountain Summit\, 443 Putney Mountain Rd\, Brookline\, 05345\, United States
CATEGORIES:Night Sky
END:VEVENT
BEGIN:VEVENT
DTSTART;TZID=America/New_York:20250710T203000
DTEND;TZID=America/New_York:20250710T213000
DTSTAMP:20260423T134210
CREATED:20250509T202910Z
LAST-MODIFIED:20250509T202910Z
UID:4152-1752179400-1752183000@putneymountain.org
SUMMARY:Full Moon
DESCRIPTION:Moon-gaze to the dulcet sounds of sheep bells and baaas.
URL:https://putneymountain.org/event/full-moon-5/
LOCATION:Putney Mountain Summit\, 443 Putney Mountain Rd\, Brookline\, 05345\, United States
CATEGORIES:Night Sky
END:VEVENT
BEGIN:VEVENT
DTSTART;TZID=America/New_York:20250611T200000
DTEND;TZID=America/New_York:20250611T220000
DTSTAMP:20260423T134210
CREATED:20250509T201855Z
LAST-MODIFIED:20250509T202555Z
UID:4145-1749672000-1749679200@putneymountain.org
SUMMARY:Full Moon
DESCRIPTION:Bring a friend and a late-night snack.
URL:https://putneymountain.org/event/full-moon-4/
LOCATION:Putney Mountain Summit\, 443 Putney Mountain Rd\, Brookline\, 05345\, United States
CATEGORIES:Night Sky
END:VEVENT
BEGIN:VEVENT
DTSTART;TZID=America/New_York:20210920T184900
DTEND;TZID=America/New_York:20210920T190900
DTSTAMP:20260423T134210
CREATED:20210530T190850Z
LAST-MODIFIED:20210530T190850Z
UID:3278-1632163740-1632164940@putneymountain.org
SUMMARY:Full Moon
DESCRIPTION:Sunset: 6:49 pm Moonrise: 7:09 pm
URL:https://putneymountain.org/event/full-moon-3/
LOCATION:Putney Mountain Summit\, 443 Putney Mountain Rd\, Brookline\, 05345\, United States
CATEGORIES:Night Sky
ATTACH;FMTTYPE=image/jpeg:https://putneymountain.org/wp-content/uploads/2021/05/Full_moon.jpeg
END:VEVENT
BEGIN:VEVENT
DTSTART;TZID=America/New_York:20210822T194000
DTEND;TZID=America/New_York:20210822T201800
DTSTAMP:20260423T134210
CREATED:20210530T190558Z
LAST-MODIFIED:20210530T190614Z
UID:3276-1629661200-1629663480@putneymountain.org
SUMMARY:Full Moon
DESCRIPTION:Sunset: 7:40 pm Moonrise: 8:18 pm
URL:https://putneymountain.org/event/full-moon-2/
LOCATION:Putney Mountain Summit\, 443 Putney Mountain Rd\, Brookline\, 05345\, United States
CATEGORIES:Night Sky
ATTACH;FMTTYPE=image/jpeg:https://putneymountain.org/wp-content/uploads/2021/05/MG_1694-scaled.jpg
END:VEVENT
BEGIN:VEVENT
DTSTART;TZID=America/New_York:20210819T194400
DTEND;TZID=America/New_York:20210819T194400
DTSTAMP:20260423T134210
CREATED:20210530T190417Z
LAST-MODIFIED:20210530T190417Z
UID:3274-1629402240-1629402240@putneymountain.org
SUMMARY:Jupiter at Opposition
DESCRIPTION:Brightest and closest approach to earth. Binoculars will make visible the 4 Galilean moons.  \nWill rise at 7:44 pm.
URL:https://putneymountain.org/event/jupiter-at-opposition/
LOCATION:Putney Mountain Summit\, 443 Putney Mountain Rd\, Brookline\, 05345\, United States
CATEGORIES:Night Sky
ATTACH;FMTTYPE=image/jpeg:https://putneymountain.org/wp-content/uploads/2021/05/full-view-of-jupiter.jpeg
END:VEVENT
BEGIN:VEVENT
DTSTART;VALUE=DATE:20210812
DTEND;VALUE=DATE:20210814
DTSTAMP:20260423T134210
CREATED:20210530T190220Z
LAST-MODIFIED:20210530T190220Z
UID:3272-1628726400-1628899199@putneymountain.org
SUMMARY:Perseids Meteor Shower
DESCRIPTION:Best viewing after midnight on August 12. Up to 60 meteors per hour
URL:https://putneymountain.org/event/perseids-meteor-shower/
LOCATION:Putney Mountain Summit\, 443 Putney Mountain Rd\, Brookline\, 05345\, United States
CATEGORIES:Night Sky
ATTACH;FMTTYPE=image/jpeg:https://putneymountain.org/wp-content/uploads/2021/05/983b9c81f15896342eca6a6f6bdeb59d.jpeg
END:VEVENT
BEGIN:VEVENT
DTSTART;TZID=America/New_York:20210802T205600
DTEND;TZID=America/New_York:20210802T205600
DTSTAMP:20260423T134210
CREATED:20210530T190108Z
LAST-MODIFIED:20210530T190108Z
UID:3270-1627937760-1627937760@putneymountain.org
SUMMARY:Saturn at Opposition
DESCRIPTION:Brightest and closest approach to earth. Binoculars will let you see the rings!  \nPlanet will rise at 8:56 pm
URL:https://putneymountain.org/event/saturn-at-opposition/
LOCATION:Putney Mountain Summit\, 443 Putney Mountain Rd\, Brookline\, 05345\, United States
CATEGORIES:Night Sky
ATTACH;FMTTYPE=image/jpeg:https://putneymountain.org/wp-content/uploads/2021/05/download.jpeg
END:VEVENT
BEGIN:VEVENT
DTSTART;VALUE=DATE:20210728
DTEND;VALUE=DATE:20210730
DTSTAMP:20260423T134210
CREATED:20210530T185934Z
LAST-MODIFIED:20210607T124329Z
UID:3266-1627430400-1627603199@putneymountain.org
SUMMARY:Delta Aquarids Meteor Shower
DESCRIPTION:Best viewing the night of July 28.
URL:https://putneymountain.org/event/delta-aquarids-meteor-shower/
CATEGORIES:Night Sky
ATTACH;FMTTYPE=image/jpeg:https://putneymountain.org/wp-content/uploads/2021/05/geminids-meteor-shower.jpeg
END:VEVENT
BEGIN:VEVENT
DTSTART;TZID=UTC:20210704T043500
DTEND;TZID=UTC:20210704T170000
DTSTAMP:20260423T134210
CREATED:20210530T062446Z
LAST-MODIFIED:20210530T184141Z
UID:3252-1625373300-1625418000@putneymountain.org
SUMMARY:Mercury at Greatest Western Elongation
DESCRIPTION:best time to observe the planet at sunrise (5:17 am)
URL:https://putneymountain.org/event/mercury-at-greatest-western-elongation/
LOCATION:Putney Mountain Summit\, 443 Putney Mountain Rd\, Brookline\, 05345\, United States
CATEGORIES:Night Sky
ATTACH;FMTTYPE=image/jpeg:https://putneymountain.org/wp-content/uploads/2021/05/planet-mercury.jpeg
END:VEVENT
BEGIN:VEVENT
DTSTART;TZID=America/New_York:20210624T203300
DTEND;TZID=America/New_York:20210624T205600
DTSTAMP:20260423T134210
CREATED:20210530T062059Z
LAST-MODIFIED:20210530T185020Z
UID:3250-1624566780-1624568160@putneymountain.org
SUMMARY:Full Moon
DESCRIPTION:Sunset: 8:33 pm Moonrise: 8:56 pm
URL:https://putneymountain.org/event/full-moon/
CATEGORIES:Night Sky
ATTACH;FMTTYPE=image/jpeg:https://putneymountain.org/wp-content/uploads/2021/05/MG_1430-scaled.jpg
END:VEVENT
BEGIN:VEVENT
DTSTART;TZID=America/New_York:20210621T051100
DTEND;TZID=America/New_York:20210621T203300
DTSTAMP:20260423T134210
CREATED:20210530T061919Z
LAST-MODIFIED:20210530T185051Z
UID:3247-1624252260-1624307580@putneymountain.org
SUMMARY:Summer Solstice
DESCRIPTION:Longest day of the year! \nSunrise: 5:11 am Sunset: 8:33 pm 15hrs 21 mins of daylight
URL:https://putneymountain.org/event/summer-solstice/
LOCATION:Putney Mountain Summit\, 443 Putney Mountain Rd\, Brookline\, 05345\, United States
CATEGORIES:Night Sky
ATTACH;FMTTYPE=image/jpeg:https://putneymountain.org/wp-content/uploads/2021/05/MG_1975.jpg
END:VEVENT
BEGIN:VEVENT
DTSTART;TZID=America/New_York:20210610T051000
DTEND;TZID=America/New_York:20210610T061100
DTSTAMP:20260423T134210
CREATED:20210530T061451Z
LAST-MODIFIED:20210530T185127Z
UID:3238-1623301800-1623305460@putneymountain.org
SUMMARY:Partial Solar Eclipse
DESCRIPTION:Sun and moon will rise together with the moon partially obscuring the sun.
URL:https://putneymountain.org/event/partial-solar-eclipse/
LOCATION:Putney Mountain Summit\, 443 Putney Mountain Rd\, Brookline\, 05345\, United States
CATEGORIES:Night Sky
ATTACH;FMTTYPE=image/jpeg:https://putneymountain.org/wp-content/uploads/2021/05/partial-solar-eclipse-1-scaled.jpeg
END:VEVENT
END:VCALENDAR