BEGIN:VCALENDAR
VERSION:2.0
PRODID:-//Putney Mountain Association - ECPv6.15.20//NONSGML v1.0//EN
CALSCALE:GREGORIAN
METHOD:PUBLISH
X-WR-CALNAME:Putney Mountain Association
X-ORIGINAL-URL:https://putneymountain.org
X-WR-CALDESC:Events for Putney Mountain Association
REFRESH-INTERVAL;VALUE=DURATION:PT1H
X-Robots-Tag:noindex
X-PUBLISHED-TTL:PT1H
BEGIN:VTIMEZONE
TZID:America/New_York
BEGIN:DAYLIGHT
TZOFFSETFROM:-0500
TZOFFSETTO:-0400
TZNAME:EDT
DTSTART:20230312T070000
END:DAYLIGHT
BEGIN:STANDARD
TZOFFSETFROM:-0400
TZOFFSETTO:-0500
TZNAME:EST
DTSTART:20231105T060000
END:STANDARD
BEGIN:DAYLIGHT
TZOFFSETFROM:-0500
TZOFFSETTO:-0400
TZNAME:EDT
DTSTART:20240310T070000
END:DAYLIGHT
BEGIN:STANDARD
TZOFFSETFROM:-0400
TZOFFSETTO:-0500
TZNAME:EST
DTSTART:20241103T060000
END:STANDARD
BEGIN:DAYLIGHT
TZOFFSETFROM:-0500
TZOFFSETTO:-0400
TZNAME:EDT
DTSTART:20250309T070000
END:DAYLIGHT
BEGIN:STANDARD
TZOFFSETFROM:-0400
TZOFFSETTO:-0500
TZNAME:EST
DTSTART:20251102T060000
END:STANDARD
BEGIN:DAYLIGHT
TZOFFSETFROM:-0500
TZOFFSETTO:-0400
TZNAME:EDT
DTSTART:20260308T070000
END:DAYLIGHT
BEGIN:STANDARD
TZOFFSETFROM:-0400
TZOFFSETTO:-0500
TZNAME:EST
DTSTART:20261101T060000
END:STANDARD
END:VTIMEZONE
BEGIN:VEVENT
DTSTART;TZID=America/New_York:20250628T090000
DTEND;TZID=America/New_York:20250628T103000
DTSTAMP:20260423T134154
CREATED:20250509T202813Z
LAST-MODIFIED:20250618T153332Z
UID:4150-1751101200-1751106600@putneymountain.org
SUMMARY:Putney Mountain Tree Walk
DESCRIPTION:Want to get to know your deciduous and coniferous neighbors on the ridgeline? The Putney Mountain Association is hosting naturalist Rich Grumbine for a Tree Walk on June 28th at 9 AM. This slow amble will afford ample opportunity for identification and careful observation of these sylvan creatures. In case of rain\, the walk will take place on June 29th at 9AM.\n\n\nGrumbine has lived in the Putney area since 1989 and has been a member of the natural science faculty at Landmark College for 35 years. He fell in love with plants during his college years and one of his great pleasures is to share his plant knowledge and enthusiasm with others.\n\n\nThe Tree Walk will take place on the most-hiked trail in Windham County. Thanks to a grant from the Vermont Department of Forest\, Parks\, and Recreation and the expert trail construction of Tahawus Trails\, Putney Mountain Association was finally able to give our most popular trail the heft it needed to support the crowds. Tree walkers can rest assured that the path will be dry and that their walking will not disturb any vernal pools.
URL:https://putneymountain.org/event/putney-mountain-tree-walk/
LOCATION:Putney Mountain Trailhead\, 443 Putney Mountain Rd\, Brookline\, VT\, 05345\, United States
CATEGORIES:Hike
END:VEVENT
BEGIN:VEVENT
DTSTART;TZID=America/New_York:20250614T090000
DTEND;TZID=America/New_York:20250614T100000
DTSTAMP:20260423T134154
CREATED:20250509T202539Z
LAST-MODIFIED:20250509T202539Z
UID:4147-1749891600-1749895200@putneymountain.org
SUMMARY:Ash Tree Inoculation
DESCRIPTION:Join local arborists Pete Butler and Kevin Brewer\, who are conducting a second inoculation of PMA’s Legacy Ash in the newly acquired Fall Brook forest. Please register for this event as parking is limited. Carpool if you can! You can hike in from the Hague Rd parking lot or from the end of Holland Hill Rd.
URL:https://putneymountain.org/event/ash-tree-inoculation/
LOCATION:Legacy Ash Tree on Missing Link Trail\, 645 Hague Rd\, Dummerston\, VT\, 05346
CATEGORIES:Hike
END:VEVENT
BEGIN:VEVENT
DTSTART;TZID=America/New_York:20240824T100000
DTEND;TZID=America/New_York:20240824T120000
DTSTAMP:20260423T134154
CREATED:20240803T132615Z
LAST-MODIFIED:20240803T133255Z
UID:3866-1724493600-1724500800@putneymountain.org
SUMMARY:Missing Link Trail Celebration Hike
DESCRIPTION:After 40 years of working to connect the Windmill Ridgeline Trail from Grafton\, VT to Prospect Hill in Dummerston\, Putney Mountain Association will open the final trail segment on August 24\, 2024! Champion trailblazer Roger Haydock will guide us over 3 miles of the newly- completed Missing Link Trail with views to the West River valley and a visit to Vermont’s co-champion ash tree.
URL:https://putneymountain.org/event/missing-link-trail-celebration-hike/
LOCATION:End of Holland Hill Rd\, 515 Holland Hill Rd\, Putney\, Vermont\, 05346
CATEGORIES:Hike
ATTACH;FMTTYPE=image/jpeg:https://putneymountain.org/wp-content/uploads/2024/08/co-champion-ash-16x9-1.jpg
END:VEVENT
END:VCALENDAR