BEGIN:VCALENDAR
VERSION:2.0
PRODID:-//Putney Mountain Association - ECPv6.15.20//NONSGML v1.0//EN
CALSCALE:GREGORIAN
METHOD:PUBLISH
X-WR-CALNAME:Putney Mountain Association
X-ORIGINAL-URL:https://putneymountain.org
X-WR-CALDESC:Events for Putney Mountain Association
REFRESH-INTERVAL;VALUE=DURATION:PT1H
X-Robots-Tag:noindex
X-PUBLISHED-TTL:PT1H
BEGIN:VTIMEZONE
TZID:America/New_York
BEGIN:DAYLIGHT
TZOFFSETFROM:-0500
TZOFFSETTO:-0400
TZNAME:EDT
DTSTART:20200308T070000
END:DAYLIGHT
BEGIN:STANDARD
TZOFFSETFROM:-0400
TZOFFSETTO:-0500
TZNAME:EST
DTSTART:20201101T060000
END:STANDARD
BEGIN:DAYLIGHT
TZOFFSETFROM:-0500
TZOFFSETTO:-0400
TZNAME:EDT
DTSTART:20210314T070000
END:DAYLIGHT
BEGIN:STANDARD
TZOFFSETFROM:-0400
TZOFFSETTO:-0500
TZNAME:EST
DTSTART:20211107T060000
END:STANDARD
BEGIN:DAYLIGHT
TZOFFSETFROM:-0500
TZOFFSETTO:-0400
TZNAME:EDT
DTSTART:20220313T070000
END:DAYLIGHT
BEGIN:STANDARD
TZOFFSETFROM:-0400
TZOFFSETTO:-0500
TZNAME:EST
DTSTART:20221106T060000
END:STANDARD
BEGIN:DAYLIGHT
TZOFFSETFROM:-0500
TZOFFSETTO:-0400
TZNAME:EDT
DTSTART:20230312T070000
END:DAYLIGHT
BEGIN:STANDARD
TZOFFSETFROM:-0400
TZOFFSETTO:-0500
TZNAME:EST
DTSTART:20231105T060000
END:STANDARD
END:VTIMEZONE
BEGIN:VEVENT
DTSTART;TZID=America/New_York:20220424T100000
DTEND;TZID=America/New_York:20220424T120000
DTSTAMP:20260423T152935
CREATED:20220420T045421Z
LAST-MODIFIED:20220420T045421Z
UID:3553-1650794400-1650801600@putneymountain.org
SUMMARY:Spring Flower Walk
DESCRIPTION:With Pat Shields and Lionel Chute \nExplore spring wildflowers of the Forest for Learning behind Putney Central School.  Meet at the kiosk by the pool on School Forest Drive (immediate right off the front school driveway). The walk to the site might be wet so boots are a good idea.  This walk is co-sponsored by Putney Mountain Association and The Forest for Learning.  Please RSVP here. Full vaccination and/or mask requested. Questions\, call Pat at 802-387-8595.
URL:https://putneymountain.org/event/spring-flower-walk/
LOCATION:Putney Forest for Learning\, 24 School Forest Dr\, Putney\, 05346\, United States
CATEGORIES:Class or walk,For Kids
ATTACH;FMTTYPE=image/jpeg:https://putneymountain.org/wp-content/uploads/2022/04/IMG_9690.jpeg
END:VEVENT
BEGIN:VEVENT
DTSTART;TZID=America/New_York:20220122T100000
DTEND;TZID=America/New_York:20220221T120000
DTSTAMP:20260423T152935
CREATED:20210529T191631Z
LAST-MODIFIED:20220121T181125Z
UID:3231-1642845600-1645444800@putneymountain.org
SUMMARY:Tracking walk with Phillip Hamilton
DESCRIPTION:Tracking walk has been cancelled due to forecast low temperatures. We will update you if we are able to reschedule.
URL:https://putneymountain.org/event/tracking-walk-with-phillip-hamilton/
LOCATION:Putney School\, 418 Houghton Brook Rd\, Putney\, 05346
CATEGORIES:Class or walk
ATTACH;FMTTYPE=image/jpeg:https://putneymountain.org/wp-content/uploads/2020/07/Slide50.jpg
END:VEVENT
BEGIN:VEVENT
DTSTART;TZID=America/New_York:20210925T100000
DTEND;TZID=America/New_York:20210925T120000
DTSTAMP:20260423T152935
CREATED:20210529T191330Z
LAST-MODIFIED:20210530T184617Z
UID:3229-1632564000-1632571200@putneymountain.org
SUMMARY:Moss Walk with Sarah Cooper Ellis
DESCRIPTION:This year\, we will explore a wet limey outcrop along Brook Road. We will meet an ancient liverwort\,\nput our heads together about ferns and clubmosses\, and discuss reproductive strategies of sporebearing plants. Park at one of several pull-offs on Brook road and meet where the old water barrel\noverflows. We will need to dodge Saturday morning traffic. No dogs\, please\, but children welcome.\nBring hand lenses or other magnifiers. \nRain date:  September 26\, 2021
URL:https://putneymountain.org/event/moss-walk-with-sarah-cooper-ellis/
LOCATION:Brook Road Water Barrel\, 66 Brook Road\, Putney\, VT\, 05346\, United States
CATEGORIES:Class or walk
ATTACH;FMTTYPE=image/jpeg:https://putneymountain.org/wp-content/uploads/2021/05/Moss-Sporophytes.jpeg
END:VEVENT
BEGIN:VEVENT
DTSTART;TZID=America/New_York:20210918T100000
DTEND;TZID=America/New_York:20210918T140000
DTSTAMP:20260423T152935
CREATED:20210529T190931Z
LAST-MODIFIED:20210627T015809Z
UID:3227-1631959200-1631973600@putneymountain.org
SUMMARY:Hawk Watch explainer with John Anderson
DESCRIPTION:Take a peek under the hood of the Putney Mountain Hawk Watch with John Anderson. Learn\nabout the history of hawk watch\, hawk watchers themselves\, some theory and method behind bird\ncounts\, as well as some tips on raptor identification. Pre-register by emailing\nncooper17@comcast.net by Thursday September 16. Binoculars necessary. Lunch\, water\,\nsunscreen\, lawn chair optional. Meet on the summit of Putney Mountain and ask for John \nRaindate:  September 19\, 2021
URL:https://putneymountain.org/event/hawk-watch-explainer-with-john-anderson/
LOCATION:Putney Mountain Summit\, 443 Putney Mountain Rd\, Brookline\, 05345\, United States
CATEGORIES:Class or walk
ATTACH;FMTTYPE=image/jpeg:https://putneymountain.org/wp-content/uploads/2021/05/BWHA-1.jpeg
END:VEVENT
BEGIN:VEVENT
DTSTART;TZID=America/New_York:20210911T110000
DTEND;TZID=America/New_York:20210911T130000
DTSTAMP:20260423T152935
CREATED:20210529T190638Z
LAST-MODIFIED:20210607T124230Z
UID:3225-1631358000-1631365200@putneymountain.org
SUMMARY:Orienteering for 6th-8th graders with Andrew Morrison
DESCRIPTION:If you are at point A\, and your phone ran out of batteries (or you don’t have a phone)\, how do you\nget to point B? Come to Andrew Morrison’s orienteering orientation – that’s how! Learn direction\nfinding in the woods\, how to read a map\, and gain confidence in finding your way through the\nworld. Targeted at kids ages 10-14 email Andrew (mr.a.morrison@gmail.com) if you have questions! \nLimit 12. Parent should plan to attend as well. Bring a compass if you have one! \nRain date: September 12
URL:https://putneymountain.org/event/orienteering-for-6th-graders-with-andrew-morrison/
LOCATION:Putney Mountain Trailhead\, 443 Putney Mountain Rd\, Brookline\, VT\, 05345\, United States
CATEGORIES:Class or walk,For Kids
ATTACH;FMTTYPE=image/jpeg:https://putneymountain.org/wp-content/uploads/2021/05/Orienteering.jpg
END:VEVENT
BEGIN:VEVENT
DTSTART;TZID=America/New_York:20210821T100000
DTEND;TZID=America/New_York:20210821T123000
DTSTAMP:20260423T152935
CREATED:20210529T185739Z
LAST-MODIFIED:20210611T030255Z
UID:3218-1629540000-1629549000@putneymountain.org
SUMMARY:Kids on the Mountain - a natural treasure hunt with Sam Quintal
DESCRIPTION:Join Sam and his daughters for a 2 ½ hour 1 mile hike to the summit of Putney Mountain and back.\nOpen to kids ages ~4-10. We will focus on noticing details of the forest and the landscape and\nexploring and testing explanations. Limit 12 families – masks required. Snacks will be provided at\nthe summit One parent per family is asked accompany their kids. \nRaindate:  August 22\, 2021
URL:https://putneymountain.org/event/kids-on-the-mountain-a-natural-treasure-hunt-with-sam-quintal/
LOCATION:Putney Mountain Trailhead\, 443 Putney Mountain Rd\, Brookline\, VT\, 05345\, United States
CATEGORIES:Class or walk,For Kids
ATTACH;FMTTYPE=image/jpeg:https://putneymountain.org/wp-content/uploads/2021/05/IMG_2661.jpg
END:VEVENT
BEGIN:VEVENT
DTSTART;TZID=America/New_York:20210814T090000
DTEND;TZID=America/New_York:20210814T110000
DTSTAMP:20260423T152935
CREATED:20210529T184902Z
LAST-MODIFIED:20210730T235115Z
UID:3212-1628931600-1628938800@putneymountain.org
SUMMARY:!Date Change! 400 million years in half a mile - Geology with Roger Haydock
DESCRIPTION:Putney Mountain Road is washed out so this event is being moved to August 14th. We will post here if registrations re-open due to cancelations. Thanks! \nRoger will lead a short geology field trip to Putney Mountain summit.  Meet at the parking lot at 9:00 AM. This field trip will look at evidence of mountain building from 400 million years ago and at glacial impacts from 20\,000 years ago. The total walking distance is about 1 1/2 miles. \nRain date:  August 1
URL:https://putneymountain.org/event/400-million-years-in-1-2-a-mile-geology-with-roger-haydock/
LOCATION:Putney Mountain Trailhead\, 443 Putney Mountain Rd\, Brookline\, VT\, 05345\, United States
CATEGORIES:Class or walk
ATTACH;FMTTYPE=image/jpeg:https://putneymountain.org/wp-content/uploads/2021/05/Putney-Mountain-summit-view-east.24.jpg
END:VEVENT
BEGIN:VEVENT
DTSTART;TZID=America/New_York:20210807T123000
DTEND;TZID=America/New_York:20210807T160000
DTSTAMP:20260423T152935
CREATED:20210529T185219Z
LAST-MODIFIED:20210730T123336Z
UID:3214-1628339400-1628352000@putneymountain.org
SUMMARY:Sketching Workshop with Nina Salvatore
DESCRIPTION:By looking at light and shape\, anyone can draw in nature. Experience the pleasure of looking\nclosely at things you have already seen with a new eye and come away not only with sketches but\nalso a deeper appreciation of the natural world. A packet of supplies will be provided for $15 per\nperson and will include a set of drawing pencils\, eraser\, sharpener\, and quality drawing paper. You\nmay take the supplies with you at the end. Please bring a clipboard if you can. \nPlease email n.sara.salvatore@gmail.com to preregister by August 3. \nRain date:  August 8
URL:https://putneymountain.org/event/sketching-workshop-with-nina-salvatore/
LOCATION:Putney Mountain Trailhead\, 443 Putney Mountain Rd\, Brookline\, VT\, 05345\, United States
CATEGORIES:Class or walk
ATTACH;FMTTYPE=image/jpeg:https://putneymountain.org/wp-content/uploads/2021/05/C82C0CA0-33D2-44EC-8ECC-EA5471E81857_1_105_c.jpeg
END:VEVENT
BEGIN:VEVENT
DTSTART;TZID=America/New_York:20210724T090000
DTEND;TZID=America/New_York:20210724T110000
DTSTAMP:20260423T152935
CREATED:20210529T184326Z
LAST-MODIFIED:20210530T184831Z
UID:3205-1627117200-1627124400@putneymountain.org
SUMMARY:Landscape Photography with Brent Seabrook
DESCRIPTION:Taking pictures seems like it should be such a snap. Point the camera\, click the shutter. But anyone\nwho has tried to capture the character of a big tree\, or magical light filtering through leaves knows\nthat there is immense skill in creating a truly great photograph. Learn to look\, learn of light\, and\ntake home some remarkable images from the Missing Links trail. Please carpool if possible\n(parking at the trailhead is limited). \nRain date:  July 25
URL:https://putneymountain.org/event/landscape-photography-with-brent-seabrook/
LOCATION:Missing Links Trailhead\, 645 Hague Rd\, Dummerston\, VT\, 05301\, United States
CATEGORIES:Class or walk
ATTACH;FMTTYPE=image/jpeg:https://putneymountain.org/wp-content/uploads/2021/05/PXL_20201001_140522420-01-1.jpg
END:VEVENT
BEGIN:VEVENT
DTSTART;TZID=America/New_York:20210717T100000
DTEND;TZID=America/New_York:20210717T120000
DTSTAMP:20260423T152935
CREATED:20210529T182902Z
LAST-MODIFIED:20210611T032620Z
UID:3189-1626516000-1626523200@putneymountain.org
SUMMARY:Sheep and the Invasives They Eat with David Ritchie and Sam Quintal 
DESCRIPTION:You’ve seen the fences\, heard the ringing bells\, admired their fleece\, perhaps pondered their inner lives and motivations. Or perhaps you are just discouraged by all of the invasive buckthorn. Join David Ritchie\, Putney Mountain shepherd and sheep advocate\, and Sam Quintal\, buckthorn enforcer\, for a deep dive into the purpose of our fine fleeced friends feeding at the summit\, and our shared zeal for the eradication of the buckthorn that they consume. Limit 15 people. \nRain date: July 18
URL:https://putneymountain.org/event/sheep-and-the-invasives-they-eat-with-david-ritchie-and-sam-quintal/
LOCATION:Putney Mountain Summit\, 443 Putney Mountain Rd\, Brookline\, 05345\, United States
CATEGORIES:Class or walk
ATTACH;FMTTYPE=image/jpeg:https://putneymountain.org/wp-content/uploads/2021/05/IMG_20200801_195505.jpg
END:VEVENT
BEGIN:VEVENT
DTSTART;TZID=America/New_York:20210710T090000
DTEND;TZID=America/New_York:20210710T120000
DTSTAMP:20260423T152935
CREATED:20210529T063446Z
LAST-MODIFIED:20210530T184939Z
UID:3179-1625907600-1625918400@putneymountain.org
SUMMARY:Trail building class with Roger Haydock
DESCRIPTION:Want to build your very own hiking trail or are you curious how the Putney Mountain Trails came to exist? Join Roger Haydock\, our trail planner extraordinaire\, for a chance to see the terrain like a blank slate. Meet at the Dummerston Church at 9 am to carpool to the Missing Links parking lot (parking at the trailhead is limited). Bring a mask for the car ride. Limit 15 people. \n(no rain date)
URL:https://putneymountain.org/event/trail-building-class-with-roger-haydock/
LOCATION:Missing Links Trailhead\, 645 Hague Rd\, Dummerston\, VT\, 05301\, United States
CATEGORIES:Class or walk
ATTACH;FMTTYPE=image/jpeg:https://putneymountain.org/wp-content/uploads/2021/05/PXL_20201001_141003370-01.jpg
END:VEVENT
BEGIN:VEVENT
DTSTART;TZID=America/New_York:20210703T100000
DTEND;TZID=America/New_York:20210703T120000
DTSTAMP:20260423T152935
CREATED:20210529T190245Z
LAST-MODIFIED:20210617T123942Z
UID:3220-1625306400-1625313600@putneymountain.org
SUMMARY:Fern walk with Lynn Levine
DESCRIPTION:New date: Now July 3! \nJoin Lynn Levine\, author of Identifying Ferns the Easy Way: A Guide to Common Ferns in the\nNortheast\, for a ramble through the woods of the Beatrix Aiken Preserve – a little gem of Putney\nforest and an incredibly diversified landscape brimming with ferns sprouting from cliffs rich with\ncalcium\, the forest floor and a small wetland. \nPre-register by calling Lynn at 254-4717 or by emailing\nforester.lynn@gmail.com \nParticipants will need to buy a book (at the reduced price of $10) to refer to\nduring the walk. Payment can be completed on pre-registering. \nRain date: July 4
URL:https://putneymountain.org/event/fern-walk-with-lynn-levine/
LOCATION:Beatrice Aiken Wildlife Preserve\, 12 Old Rte 5\, Putney\, VT\, 05346\, United States
CATEGORIES:Class or walk
ATTACH;FMTTYPE=image/jpeg:https://putneymountain.org/wp-content/uploads/2021/05/DSCN7691.jpeg
END:VEVENT
BEGIN:VEVENT
DTSTART;TZID=America/New_York:20210626T070000
DTEND;TZID=America/New_York:20210626T100000
DTSTAMP:20260423T152935
CREATED:20210529T060456Z
LAST-MODIFIED:20210611T123654Z
UID:3165-1624690800-1624701600@putneymountain.org
SUMMARY:Birding with Richard Foye
DESCRIPTION:Join Richard Foye\, avid birder\, for a bird walk along Hinton Trail. Learn to identify birds through song and sight. Bring your binoculars and your best ears. Limit 12 people. \nRain date: July 28
URL:https://putneymountain.org/event/birding-with-richard-foye/
LOCATION:Putney Mountain Trailhead – Libby’s Way\, 443 Putney Mountain Rd\, Brookline\, VT\, 05345\, United States
CATEGORIES:Class or walk
ATTACH;FMTTYPE=image/jpeg:https://putneymountain.org/wp-content/uploads/2021/05/DSCN7369.jpeg
END:VEVENT
END:VCALENDAR