BEGIN:VCALENDAR
VERSION:2.0
PRODID:-//Putney Mountain Association - ECPv6.15.20//NONSGML v1.0//EN
CALSCALE:GREGORIAN
METHOD:PUBLISH
X-WR-CALNAME:Putney Mountain Association
X-ORIGINAL-URL:https://putneymountain.org
X-WR-CALDESC:Events for Putney Mountain Association
REFRESH-INTERVAL;VALUE=DURATION:PT1H
X-Robots-Tag:noindex
X-PUBLISHED-TTL:PT1H
BEGIN:VTIMEZONE
TZID:America/New_York
BEGIN:DAYLIGHT
TZOFFSETFROM:-0500
TZOFFSETTO:-0400
TZNAME:EDT
DTSTART:20210314T070000
END:DAYLIGHT
BEGIN:STANDARD
TZOFFSETFROM:-0400
TZOFFSETTO:-0500
TZNAME:EST
DTSTART:20211107T060000
END:STANDARD
BEGIN:DAYLIGHT
TZOFFSETFROM:-0500
TZOFFSETTO:-0400
TZNAME:EDT
DTSTART:20220313T070000
END:DAYLIGHT
BEGIN:STANDARD
TZOFFSETFROM:-0400
TZOFFSETTO:-0500
TZNAME:EST
DTSTART:20221106T060000
END:STANDARD
BEGIN:DAYLIGHT
TZOFFSETFROM:-0500
TZOFFSETTO:-0400
TZNAME:EDT
DTSTART:20230312T070000
END:DAYLIGHT
BEGIN:STANDARD
TZOFFSETFROM:-0400
TZOFFSETTO:-0500
TZNAME:EST
DTSTART:20231105T060000
END:STANDARD
END:VTIMEZONE
BEGIN:VEVENT
DTSTART;TZID=America/New_York:20220806T100000
DTEND;TZID=America/New_York:20220806T120000
DTSTAMP:20260423T193622
CREATED:20220607T125231Z
LAST-MODIFIED:20220607T125231Z
UID:3662-1659780000-1659787200@putneymountain.org
SUMMARY:Invertebrate walk with JoAnne Russo and the Vermont Entomological Society
DESCRIPTION:Bugs\, Bugs\, Bugs! They are everywhere\, yet frequently invisible. They are vital yet often ignored. Learn more about the beauty\, strength\, function and habits of the smallest mobile residents of our forests. \nPlease bring a butterfly net if you have one. \nThis is part of our BioBlitz series celebrating the diversity of life in the Hinton Woods. \nRain date: August 8 – Please register to receive updates and a reminder by email.
URL:https://putneymountain.org/event/invertebrate-walk-with-joanne-russo-and-the-vermont-entomological-society/
LOCATION:Putney Mountain Trailhead – Libby’s Way\, 443 Putney Mountain Rd\, Brookline\, VT\, 05345\, United States
CATEGORIES:BioBlitz,Class or walk,For Kids
ATTACH;FMTTYPE=image/jpeg:https://putneymountain.org/wp-content/uploads/2022/06/large.jpeg
END:VEVENT
BEGIN:VEVENT
DTSTART;TZID=America/New_York:20220716T100000
DTEND;TZID=America/New_York:20220716T170000
DTSTAMP:20260423T193622
CREATED:20220607T121401Z
LAST-MODIFIED:20220714T142256Z
UID:3654-1657965600-1657990800@putneymountain.org
SUMMARY:Postponed: Frogs\, Newts\, Salamanders\, Toads\, Beetles\, Larvae and other Pond Dwellers
DESCRIPTION:NOTE: The walk has been cancelled/postponed due to lack of water. As is now usual\, there is nothing usual about weather in this part of the world\, and the wetlands are dry. Hope to reschedule later in the summer\, and mostly hope for rain… \nA herpetology hands-on for kids\, with with Sam Quintal\, Mick Baisley and Cat Abbott. Bring your mud boots\, grubby clothes (and maybe a spare set for the ride home)\, a butterfly net (if you have one)\, and a get-wet-attitude to this deep dive into the critters of the Hinton Woods wetlands.  \nThis is part of our BioBlitz series\, focused on cataloguing the wildlife of the Hinton Woods. Come help us find what’s out there! \nAll ages welcome\, no dogs please. 1-2 miles round trip of relatively flat hiking. \nRain date: July 17 – Please register to receive updates and a reminder.
URL:https://putneymountain.org/event/frogs-newts-salamanders-toads-beetles-larvae-and-other-pond-dwellers/
LOCATION:Putney Mountain Trailhead – Libby’s Way\, 443 Putney Mountain Rd\, Brookline\, VT\, 05345\, United States
CATEGORIES:BioBlitz,Class or walk,For Kids
ATTACH;FMTTYPE=image/jpeg:https://putneymountain.org/wp-content/uploads/2022/06/Wood-Frog-Egg-Masses-scaled.jpeg
END:VEVENT
BEGIN:VEVENT
DTSTART;TZID=America/New_York:20220625T100000
DTEND;TZID=America/New_York:20220625T120000
DTSTAMP:20260423T193622
CREATED:20220607T110845Z
LAST-MODIFIED:20220607T122002Z
UID:3648-1656151200-1656158400@putneymountain.org
SUMMARY:Moss Walk with Sarah Cooper-Ellis
DESCRIPTION:There are hundreds of different species of moss in Vermont. Often overlooked\, difficult to specify\, mosses and their allies (liverworts and hornworts) nevertheless play an important role in our northern temperate forests. Learning a little bit about them can enhance your woodland walks and deepen your understanding of ecology at the miniature scale. We will explore the wooded area across the road from the parking lot. Park and meet at the summit parking lot. We won’t be walking very far—more of a wandering. \n\nBring hand-lenses or magnifiers\nSmart phones can be very useful\nNo dogs\, please\nChildren are welcome\nMasks appreciated\nRugged/water resistant footwear\nInsect precautions advised\n\nResources: \nLinks:\nhttps://northernforestatlas.org\nhttps://en.wikipedia.org/wiki/Moss\nhttps://www.inaturalist.org/projects/vermont-atlas-of-life \nField Guides:\nMosses of the Northern Forest: A Photographic Guide\, A Northern Forest Atlas Guide by Jerry Jenkins\nMosses\, Liverworts\, and Hornworts: A Field Guide to Common Bryophytes of the Northeast by Ralph Pope\nCommon Mosses of the Northeast and Appalachians\, by Karl McKnight and Joseph Rohrer Princeton University Press\nFerns & Allies of the North Woods by Joe Walewski  \nRain Date: June 26th\, register for updates
URL:https://putneymountain.org/event/moss-walk-with-sarah-cooper-ellis-2/
LOCATION:Putney Mountain Trailhead – Libby’s Way\, 443 Putney Mountain Rd\, Brookline\, VT\, 05345\, United States
CATEGORIES:BioBlitz,Class or walk
ATTACH;FMTTYPE=image/jpeg:https://putneymountain.org/wp-content/uploads/2022/06/MG_3056.jpeg
END:VEVENT
BEGIN:VEVENT
DTSTART;TZID=America/New_York:20220611T073000
DTEND;TZID=America/New_York:20220611T100000
DTSTAMP:20260423T193622
CREATED:20220607T105509Z
LAST-MODIFIED:20220607T111018Z
UID:3645-1654932600-1654941600@putneymountain.org
SUMMARY:Birding Walk with Cat Abbott
DESCRIPTION:Explore the hidden gems of the woods through sound\, and sight. Cat is incredibly passionate about birds\, and after this walk\, you will be too! \nThis walk is part of our BioBlitz Series\, so for this year we will hike the Hinton Trail. Come explore a new venue for the Birding Walk\, and help us find out what is out there! \nPlease bring binoculars.\nKids welcome\, no dogs please. \nRain date: June 12 – please register to receive updates/reminders
URL:https://putneymountain.org/event/birding-walk-with-cat-abbott/
LOCATION:Putney Mountain Trailhead – Libby’s Way\, 443 Putney Mountain Rd\, Brookline\, VT\, 05345\, United States
CATEGORIES:BioBlitz,Class or walk,For Kids
ATTACH;FMTTYPE=image/jpeg:https://putneymountain.org/wp-content/uploads/2022/06/Dendroica-pensylvanica-003.jpeg
END:VEVENT
END:VCALENDAR