BEGIN:VCALENDAR
VERSION:2.0
PRODID:-//Putney Mountain Association - ECPv6.15.20//NONSGML v1.0//EN
CALSCALE:GREGORIAN
METHOD:PUBLISH
X-WR-CALNAME:Putney Mountain Association
X-ORIGINAL-URL:http://putneymountain.org
X-WR-CALDESC:Events for Putney Mountain Association
REFRESH-INTERVAL;VALUE=DURATION:PT1H
X-Robots-Tag:noindex
X-PUBLISHED-TTL:PT1H
BEGIN:VTIMEZONE
TZID:America/New_York
BEGIN:DAYLIGHT
TZOFFSETFROM:-0500
TZOFFSETTO:-0400
TZNAME:EDT
DTSTART:20230312T070000
END:DAYLIGHT
BEGIN:STANDARD
TZOFFSETFROM:-0400
TZOFFSETTO:-0500
TZNAME:EST
DTSTART:20231105T060000
END:STANDARD
BEGIN:DAYLIGHT
TZOFFSETFROM:-0500
TZOFFSETTO:-0400
TZNAME:EDT
DTSTART:20240310T070000
END:DAYLIGHT
BEGIN:STANDARD
TZOFFSETFROM:-0400
TZOFFSETTO:-0500
TZNAME:EST
DTSTART:20241103T060000
END:STANDARD
BEGIN:DAYLIGHT
TZOFFSETFROM:-0500
TZOFFSETTO:-0400
TZNAME:EDT
DTSTART:20250309T070000
END:DAYLIGHT
BEGIN:STANDARD
TZOFFSETFROM:-0400
TZOFFSETTO:-0500
TZNAME:EST
DTSTART:20251102T060000
END:STANDARD
END:VTIMEZONE
BEGIN:VEVENT
DTSTART;TZID=America/New_York:20241006T100000
DTEND;TZID=America/New_York:20241006T160000
DTSTAMP:20260424T180645
CREATED:20240923T144250Z
LAST-MODIFIED:20240923T144451Z
UID:4023-1728208800-1728230400@putneymountain.org
SUMMARY:Putney School Harvest Festival
DESCRIPTION:Putney Mountain Association will have a booth at the Putney School’s annual Harvest Festival. We’ll have a large scale map and handouts available for anyone looking to visit our local forests or learn more about our latest conservation project: Fall Brook. Feel free to stop by and say hi to a friendly board member! There’s lots to do at Harvest Festival; we hope to see you there!
URL:http://putneymountain.org/event/2024-harvest-festival/
LOCATION:Putney School\, 418 Houghton Brook Rd\, Putney\, 05346
CATEGORIES:For Kids
END:VEVENT
END:VCALENDAR