BEGIN:VCALENDAR
VERSION:2.0
PRODID:-//Putney Mountain Association - ECPv6.15.20//NONSGML v1.0//EN
CALSCALE:GREGORIAN
METHOD:PUBLISH
X-WR-CALNAME:Putney Mountain Association
X-ORIGINAL-URL:http://putneymountain.org
X-WR-CALDESC:Events for Putney Mountain Association
REFRESH-INTERVAL;VALUE=DURATION:PT1H
X-Robots-Tag:noindex
X-PUBLISHED-TTL:PT1H
BEGIN:VTIMEZONE
TZID:America/New_York
BEGIN:DAYLIGHT
TZOFFSETFROM:-0500
TZOFFSETTO:-0400
TZNAME:EDT
DTSTART:20240310T070000
END:DAYLIGHT
BEGIN:STANDARD
TZOFFSETFROM:-0400
TZOFFSETTO:-0500
TZNAME:EST
DTSTART:20241103T060000
END:STANDARD
BEGIN:DAYLIGHT
TZOFFSETFROM:-0500
TZOFFSETTO:-0400
TZNAME:EDT
DTSTART:20250309T070000
END:DAYLIGHT
BEGIN:STANDARD
TZOFFSETFROM:-0400
TZOFFSETTO:-0500
TZNAME:EST
DTSTART:20251102T060000
END:STANDARD
BEGIN:DAYLIGHT
TZOFFSETFROM:-0500
TZOFFSETTO:-0400
TZNAME:EDT
DTSTART:20260308T070000
END:DAYLIGHT
BEGIN:STANDARD
TZOFFSETFROM:-0400
TZOFFSETTO:-0500
TZNAME:EST
DTSTART:20261101T060000
END:STANDARD
END:VTIMEZONE
BEGIN:VEVENT
DTSTART;TZID=America/New_York:20250512T070000
DTEND;TZID=America/New_York:20250512T090000
DTSTAMP:20260424T115838
CREATED:20250509T201700Z
LAST-MODIFIED:20250509T201700Z
UID:4143-1747033200-1747040400@putneymountain.org
SUMMARY:Putney Bird Walk
DESCRIPTION:Join Richard Foye and the Putney Mountain Association to enjoy the sights and sounds of the songbirds currently making Putney home. Meet at Sand Hill Road at 7am this Sunday.
URL:http://putneymountain.org/event/putney-bird-walk/
LOCATION:Sand Hill Road Parking area\, 87 Sand Hill Rd\, Putney\, 05346\, United States
CATEGORIES:Class or walk
END:VEVENT
END:VCALENDAR